BEGIN:VCALENDAR
VERSION:2.0
PRODID:-//Vault Property Management/EPL//NONSGML v1.0//EN
METHOD:PUBLISH
BEGIN:VEVENT
DTSTART:20210227T133000
DTEND:20210227T134000
LOCATION:13/16 Luxford Road Mount Druitt, NSW 2770
URL:https://vaultpm.com.au/rental/13-16-luxford-road-mount-druitt-nsw-2770/
TRANSP:OPAQUE
SEQUENCE:0
UID:122751614338755
DTSTAMP:20210226T002555Z
SUMMARY:Home Open - Freshly Painted, New Carpet
DESCRIPTION:Positioned conveniently across the road from Westfield\, Mount Druitt Police Station and walking distance to local school and features the following:-\n*Two bedrooms\n*Large open plan living and dining area\n*Freshly painted throughout\n*New carpet\n*New blinds to be installed\n*Bathroom with bath and shower\n*Internal laundry\n*Garage\n*Large balcony\nAffordable neat and tidy unit.
PRIORITY:1
CLASS:PUBLIC
BEGIN:VALARM
TRIGGER:-PT10080M
ACTION:DISPLAY
DESCRIPTION:Reminder
END:VALARM
END:VEVENT
END:VCALENDAR
